BEGIN:VCALENDAR
VERSION:2.0
PRODID:-//Tukios.com/
BEGIN:VEVENT
UID:6ee9252a-02f3-4fce-a67c-894eaebb0a99@www.gnvfuneralhome.com
DTSTAMP:20260425T035109Z
DTSTART:20260516T200000Z
DTEND:20260516T210000Z
SUMMARY:Celebration of Life for Tom Jervis and Amanda Jervis
DESCRIPTION:
URL:https://www.gnvfuneralhome.com/obituaries/amanda-jervis
LOCATION: 2700 North Roxboro Street  Durham NC 27704
GEO:36.0252429;-78.8891811
END:VEVENT
END:VCALENDAR